BEGIN:VCALENDAR
VERSION:2.0
PRODID:-//Timber Trail PTO - ECPv6.15.17.1//NONSGML v1.0//EN
CALSCALE:GREGORIAN
METHOD:PUBLISH
X-ORIGINAL-URL:https://timbertrailparents.org
X-WR-CALDESC:Events for Timber Trail PTO
REFRESH-INTERVAL;VALUE=DURATION:PT1H
X-Robots-Tag:noindex
X-PUBLISHED-TTL:PT1H
BEGIN:VTIMEZONE
TZID:America/Denver
BEGIN:DAYLIGHT
TZOFFSETFROM:-0700
TZOFFSETTO:-0600
TZNAME:MDT
DTSTART:20190310T090000
END:DAYLIGHT
BEGIN:STANDARD
TZOFFSETFROM:-0600
TZOFFSETTO:-0700
TZNAME:MST
DTSTART:20191103T080000
END:STANDARD
BEGIN:DAYLIGHT
TZOFFSETFROM:-0700
TZOFFSETTO:-0600
TZNAME:MDT
DTSTART:20200308T090000
END:DAYLIGHT
BEGIN:STANDARD
TZOFFSETFROM:-0600
TZOFFSETTO:-0700
TZNAME:MST
DTSTART:20201101T080000
END:STANDARD
BEGIN:DAYLIGHT
TZOFFSETFROM:-0700
TZOFFSETTO:-0600
TZNAME:MDT
DTSTART:20210314T090000
END:DAYLIGHT
BEGIN:STANDARD
TZOFFSETFROM:-0600
TZOFFSETTO:-0700
TZNAME:MST
DTSTART:20211107T080000
END:STANDARD
BEGIN:DAYLIGHT
TZOFFSETFROM:-0700
TZOFFSETTO:-0600
TZNAME:MDT
DTSTART:20220313T090000
END:DAYLIGHT
BEGIN:STANDARD
TZOFFSETFROM:-0600
TZOFFSETTO:-0700
TZNAME:MST
DTSTART:20221106T080000
END:STANDARD
BEGIN:DAYLIGHT
TZOFFSETFROM:-0700
TZOFFSETTO:-0600
TZNAME:MDT
DTSTART:20230312T090000
END:DAYLIGHT
BEGIN:STANDARD
TZOFFSETFROM:-0600
TZOFFSETTO:-0700
TZNAME:MST
DTSTART:20231105T080000
END:STANDARD
END:VTIMEZONE
BEGIN:VEVENT
DTSTART;TZID=America/Denver:20220119T170000
DTEND;TZID=America/Denver:20220119T210000
DTSTAMP:20260425T101349
CREATED:20211015T232443Z
LAST-MODIFIED:20211015T232443Z
UID:10000213-1642611600-1642626000@timbertrailparents.org
SUMMARY:PTO fundraiser / Chipotle restaurant night
DESCRIPTION:
URL:https://timbertrailparents.org/event/pto-fundraiser-chipotle-restaurant-night/
LOCATION:Chipotle\, 9500 Heritage Hills Cir\, Ste 700\, Lone Tree\, CO 80124\, Lone Tree\, CO\, United States
END:VEVENT
BEGIN:VEVENT
DTSTART;TZID=America/Denver:20201207T160000
DTEND;TZID=America/Denver:20201207T200000
DTSTAMP:20260425T101349
CREATED:20201204T234719Z
LAST-MODIFIED:20201204T234719Z
UID:10000160-1607356800-1607371200@timbertrailparents.org
SUMMARY:TTE PTO Fundraiser at Chipotle
DESCRIPTION:CHIPOTLE FUNDRAISER FOR TTE PTO – MONDAY\, DEC. 7th \nFoil your dinner plans and stop by the Chipotle at 9500 Heritage Hills Cir Ste 700 in Lone Tree for our fundraiser on Monday\, December 07 from 4:00pm – 8:00pm. We’re raising money to support Timber Trail Elementary\, so just download this flyer for the online order code or mention the fundraiser at checkout and they’ll donate 33% of the proceeds to the cause! \nFundraiser Details
URL:https://timbertrailparents.org/event/tte-pto-fundraiser-at-chipotle/
LOCATION:Chipotle\, 9500 Heritage Hills Cir\, Ste 700\, Lone Tree\, CO 80124\, Lone Tree\, CO\, United States
END:VEVENT
END:VCALENDAR